BEGIN:VCALENDAR
VERSION:2.0
PRODID:-//wp-events-plugin.com//7.2.3.1//EN
TZID:America/New_York
X-WR-TIMEZONE:America/New_York
BEGIN:VEVENT
UID:51@sympmarc.com
DTSTART;TZID=America/New_York:20150129T130000
DTEND;TZID=America/New_York:20150129T140000
DTSTAMP:20150219T195552Z
URL:https://sympmarc.com/speaking/visualsp-webinar-sharepoint-no-code-solu
 tions-qa/
SUMMARY:VisualSP Webinar: SharePoint No Code Solutions – Q&A -  - 29 Jan 
 15 13:00
DESCRIPTION:
END:VEVENT
BEGIN:VTIMEZONE
TZID:America/New_York
X-LIC-LOCATION:America/New_York
BEGIN:STANDARD
DTSTART:20141102T010000
TZOFFSETFROM:-0400
TZOFFSETTO:-0500
TZNAME:EST
END:STANDARD
END:VTIMEZONE
END:VCALENDAR