BEGIN:VCALENDAR
VERSION:2.0
PRODID:-//wp-events-plugin.com//7.2.3.1//EN
TZID:America/New_York
X-WR-TIMEZONE:America/New_York
BEGIN:VEVENT
UID:76@sympmarc.com
DTSTART;TZID=America/New_York;VALUE=DATE:20161026
DTEND;TZID=America/New_York;VALUE=DATE:20161029
DTSTAMP:20161031T134612Z
URL:https://sympmarc.com/speaking/unity-connect-sef-2016/
SUMMARY:Unity Connect SEF 2016 - Clarion Hotel Stockholm - 26 Oct 16 00:00
DESCRIPTION:
CATEGORIES:Client-Side Development Basics: Replace Web Parts with
 Client-Side Parts,SharePoint Client-Side Development: 0 to 100kph in One
 Day,The Lay of the Land of Client-Side Development circa 2016
LOCATION:Clarion Hotel Stockholm\, Ringvägen 98\, Stockholm\, 118 60\, Swe
 den
GEO:59.3073479;18.07479539999997
X-APPLE-STRUCTURED-LOCATION;VALUE=URI;X-ADDRESS=Ringvägen 98\, Stockholm\,
  118 60\, Sweden;X-APPLE-RADIUS=100;X-TITLE=Clarion Hotel Stockholm:geo:59
 .3073479,18.07479539999997
END:VEVENT
BEGIN:VTIMEZONE
TZID:America/New_York
X-LIC-LOCATION:America/New_York
BEGIN:DAYLIGHT
DTSTART:20160313T030000
TZOFFSETFROM:-0500
TZOFFSETTO:-0400
TZNAME:EDT
END:DAYLIGHT
END:VTIMEZONE
END:VCALENDAR