BEGIN:VCALENDAR
VERSION:2.0
PRODID:-//wp-events-plugin.com//7.2.3.1//EN
TZID:America/New_York
X-WR-TIMEZONE:America/New_York
BEGIN:VEVENT
UID:74@sympmarc.com
DTSTART;TZID=America/New_York;VALUE=DATE:20160620
DTEND;TZID=America/New_York;VALUE=DATE:20160624
DTSTAMP:20160705T175100Z
URL:https://sympmarc.com/speaking/unity-connect-online-2016/
SUMMARY:Unity Connect Online 2016 -  - 20 Jun 16 00:00
DESCRIPTION:
CATEGORIES:Alternative Approaches to Solution Development in Office 365
END:VEVENT
BEGIN:VTIMEZONE
TZID:America/New_York
X-LIC-LOCATION:America/New_York
BEGIN:DAYLIGHT
DTSTART:20160313T030000
TZOFFSETFROM:-0500
TZOFFSETTO:-0400
TZNAME:EDT
END:DAYLIGHT
END:VTIMEZONE
END:VCALENDAR