BEGIN:VCALENDAR
VERSION:2.0
PRODID:-//wp-events-plugin.com//7.2.3.1//EN
TZID:America/New_York
X-WR-TIMEZONE:America/New_York
BEGIN:VEVENT
UID:75@sympmarc.com
DTSTART;TZID=America/New_York;VALUE=DATE:20161116
DTEND;TZID=America/New_York;VALUE=DATE:20161119
DTSTAMP:20160714T163212Z
URL:https://sympmarc.com/speaking/unity-connect-haarlem-2016/
SUMMARY:Unity Connect Haarlem 2016 - Philharmonie Haarlem - 16 Nov 16 00:00
DESCRIPTION:
CATEGORIES:Best Practices for Small-Scale Client-Side Development in
 SharePoint,The Lay of the Land of Client-Side Development circa 2016
LOCATION:Philharmonie Haarlem\, Lange Begijnestraat 11\, Haarlem\, 2011 HH\
 , Netherlands
GEO:52.3815367;4.638797299999965
X-APPLE-STRUCTURED-LOCATION;VALUE=URI;X-ADDRESS=Lange Begijnestraat 11\, Ha
 arlem\, 2011 HH\, Netherlands;X-APPLE-RADIUS=100;X-TITLE=Philharmonie Haar
 lem:geo:52.3815367,4.638797299999965
END:VEVENT
BEGIN:VTIMEZONE
TZID:America/New_York
X-LIC-LOCATION:America/New_York
BEGIN:STANDARD
DTSTART:20161106T010000
TZOFFSETFROM:-0400
TZOFFSETTO:-0500
TZNAME:EST
END:STANDARD
END:VTIMEZONE
END:VCALENDAR