BEGIN:VCALENDAR
VERSION:2.0
PRODID:-//wp-events-plugin.com//7.2.3.1//EN
TZID:America/New_York
X-WR-TIMEZONE:America/New_York
BEGIN:VEVENT
UID:34@sympmarc.com
DTSTART;TZID=America/New_York;VALUE=DATE:20140127
DTEND;TZID=America/New_York;VALUE=DATE:20140128
DTSTAMP:20140128T170432Z
URL:https://sympmarc.com/speaking/the-moss-show-sharepoint-podcast/
SUMMARY:The MOSS Show SharePoint Podcast -  - 27 Jan 14 00:00
DESCRIPTION:
CATEGORIES:JavaScript and SPServices
END:VEVENT
BEGIN:VTIMEZONE
TZID:America/New_York
X-LIC-LOCATION:America/New_York
BEGIN:STANDARD
DTSTART:20131103T010000
TZOFFSETFROM:-0400
TZOFFSETTO:-0500
TZNAME:EST
END:STANDARD
END:VTIMEZONE
END:VCALENDAR