BEGIN:VCALENDAR
VERSION:2.0
PRODID:-//wp-events-plugin.com//7.2.3.1//EN
TZID:America/New_York
X-WR-TIMEZONE:America/New_York
BEGIN:VEVENT
UID:60@sympmarc.com
DTSTART;TZID=America/New_York;VALUE=DATE:20150831
DTEND;TZID=America/New_York;VALUE=DATE:20150902
DTSTAMP:20151230T194003Z
URL:https://sympmarc.com/speaking/the-digital-workplace-conference-nz/
SUMMARY:The Digital Workplace Conference New Zealand 2015 - SkyCity - 31 Au
 g 15 00:00
DESCRIPTION:
CATEGORIES:Content Types-Love Them or Lose It,Creating a Great User
 Experience in SharePoint
LOCATION:SkyCity\, 88 Federal Street\, Auckland\, New Zealand
GEO:-36.8490283;174.7626758
X-APPLE-STRUCTURED-LOCATION;VALUE=URI;X-ADDRESS=88 Federal Street\, Aucklan
 d\, New Zealand;X-APPLE-RADIUS=100;X-TITLE=SkyCity:geo:-36.8490283,174.762
 6758
END:VEVENT
BEGIN:VTIMEZONE
TZID:America/New_York
X-LIC-LOCATION:America/New_York
BEGIN:DAYLIGHT
DTSTART:20150308T030000
TZOFFSETFROM:-0500
TZOFFSETTO:-0400
TZNAME:EDT
END:DAYLIGHT
END:VTIMEZONE
END:VCALENDAR