BEGIN:VCALENDAR
VERSION:2.0
PRODID:-//wp-events-plugin.com//7.2.3.1//EN
TZID:America/New_York
X-WR-TIMEZONE:America/New_York
BEGIN:VEVENT
UID:68@sympmarc.com
DTSTART;TZID=America/New_York;VALUE=DATE:20160428
DTEND;TZID=America/New_York;VALUE=DATE:20160430
DTSTAMP:20151230T193658Z
URL:https://sympmarc.com/speaking/the-digital-workplace-conference-austral
 ia-2016/
SUMMARY:The Digital Workplace Conference Australia 2016 - The Pullman Alber
 t Park Hotel - 28 Apr 16 00:00
DESCRIPTION:&nbsp\;\n
CATEGORIES:Content Types-Love Them or Lose It,Creating a Great User
 Experience in SharePoint
LOCATION:The Pullman Albert Park Hotel\, 65 Queens Rd\, Albert Park\, Melbo
 urne\, Victoria\, 3004\, Australia
GEO:-37.8497417;144.97871529999998
X-APPLE-STRUCTURED-LOCATION;VALUE=URI;X-ADDRESS=65 Queens Rd\, Albert Park\
 , Melbourne\, Victoria\, 3004\, Australia;X-APPLE-RADIUS=100;X-TITLE=The P
 ullman Albert Park Hotel:geo:-37.8497417,144.97871529999998
END:VEVENT
BEGIN:VTIMEZONE
TZID:America/New_York
X-LIC-LOCATION:America/New_York
BEGIN:DAYLIGHT
DTSTART:20160313T030000
TZOFFSETFROM:-0500
TZOFFSETTO:-0400
TZNAME:EDT
END:DAYLIGHT
END:VTIMEZONE
END:VCALENDAR