BEGIN:VCALENDAR
VERSION:2.0
PRODID:-//wp-events-plugin.com//7.2.3.1//EN
TZID:America/New_York
X-WR-TIMEZONE:America/New_York
BEGIN:VEVENT
UID:23@sympmarc.com
DTSTART;TZID=America/New_York:20130328T130000
DTEND;TZID=America/New_York:20130328T160000
DTSTAMP:20130228T180152Z
URL:https://sympmarc.com/speaking/susqtech-webinar-using-jquery-in-sharepo
 int-2010/
SUMMARY:SusQTech Webinar: Using jQuery in SharePoint 2010 -  - 28 Mar 13 13
 :00
DESCRIPTION:
CATEGORIES:A jQuery Primer for SharePoint
END:VEVENT
BEGIN:VTIMEZONE
TZID:America/New_York
X-LIC-LOCATION:America/New_York
BEGIN:DAYLIGHT
DTSTART:20130310T030000
TZOFFSETFROM:-0500
TZOFFSETTO:-0400
TZNAME:EDT
END:DAYLIGHT
END:VTIMEZONE
END:VCALENDAR