BEGIN:VCALENDAR
VERSION:2.0
PRODID:-//wp-events-plugin.com//7.2.3.1//EN
TZID:America/New_York
X-WR-TIMEZONE:America/New_York
BEGIN:VEVENT
UID:21@sympmarc.com
DTSTART;TZID=America/New_York:20130207T133000
DTEND;TZID=America/New_York:20130207T140000
DTSTAMP:20130209T162426Z
URL:https://sympmarc.com/speaking/susqtech-30-on-thursday-webinar-top-10-j
 query-uses-in-sharepoint-2010/
SUMMARY:SusQTech "30 on Thursday" webinar "Top 10 jQuery Uses in SharePoint
  2010" -  - 7 Feb 13 13:30
DESCRIPTION:
CATEGORIES:SusQTech "30 on Thursday" webinar "Top 10 jQuery Uses in
 SharePoint 2010"
END:VEVENT
BEGIN:VTIMEZONE
TZID:America/New_York
X-LIC-LOCATION:America/New_York
BEGIN:STANDARD
DTSTART:20121104T010000
TZOFFSETFROM:-0400
TZOFFSETTO:-0500
TZNAME:EST
END:STANDARD
END:VTIMEZONE
END:VCALENDAR