BEGIN:VCALENDAR
VERSION:2.0
PRODID:-//wp-events-plugin.com//7.2.3.1//EN
TZID:America/New_York
X-WR-TIMEZONE:America/New_York
BEGIN:VEVENT
UID:77@sympmarc.com
DTSTART;TZID=America/New_York;VALUE=DATE:20161205
DTEND;TZID=America/New_York;VALUE=DATE:20161209
DTSTAMP:20161031T134750Z
URL:https://sympmarc.com/speaking/sptechcon-san-francisco-2016/
SUMMARY:SPTechCon San Francisco 2016 - Hyatt Regency Burlingame - 5 Dec 16 
 00:00
DESCRIPTION:
CATEGORIES:Content Types-Love Them or Lose It,Creating a Great User
 Experience in SharePoint
LOCATION:Hyatt Regency Burlingame\, 1333 Bayshore Highway\, Burlingame\, CA
 \, 94010\, United States
GEO:37.593961;-122.36503770000002
X-APPLE-STRUCTURED-LOCATION;VALUE=URI;X-ADDRESS=1333 Bayshore Highway\, Bur
 lingame\, CA\, 94010\, United States;X-APPLE-RADIUS=100;X-TITLE=Hyatt Rege
 ncy Burlingame:geo:37.593961,-122.36503770000002
END:VEVENT
BEGIN:VTIMEZONE
TZID:America/New_York
X-LIC-LOCATION:America/New_York
BEGIN:STANDARD
DTSTART:20161106T010000
TZOFFSETFROM:-0400
TZOFFSETTO:-0500
TZNAME:EST
END:STANDARD
END:VTIMEZONE
END:VCALENDAR