BEGIN:VCALENDAR
VERSION:2.0
PRODID:-//wp-events-plugin.com//7.2.3.1//EN
TZID:America/New_York
X-WR-TIMEZONE:America/New_York
BEGIN:VEVENT
UID:30@sympmarc.com
DTSTART;TZID=America/New_York;VALUE=DATE:20140422
DTEND;TZID=America/New_York;VALUE=DATE:20140426
DTSTAMP:20131007T153934Z
URL:https://sympmarc.com/speaking/sptechcon-san-francisco-2014/
SUMMARY:SharePoint Technology Conference (SPTechCon) San Francisco 2014 - H
 ilton San Francisco Union Square - 22 Apr 14 00:00
DESCRIPTION:
CATEGORIES:Anatomy of a Display Template,Create a Business Solution, Step
 by Step, with No Managed Code,Creating a Great User Experience in
 SharePoint,SharePoint Solutions with SPServices
LOCATION:Hilton San Francisco Union Square\, 333 O’Farrell Street\, San F
 rancisco\, CA\, 94102\, United States
GEO:37.7857896;-122.4100315
X-APPLE-STRUCTURED-LOCATION;VALUE=URI;X-ADDRESS=333 O’Farrell Street\, Sa
 n Francisco\, CA\, 94102\, United States;X-APPLE-RADIUS=100;X-TITLE=Hilton
  San Francisco Union Square:geo:37.7857896,-122.4100315
END:VEVENT
BEGIN:VTIMEZONE
TZID:America/New_York
X-LIC-LOCATION:America/New_York
BEGIN:DAYLIGHT
DTSTART:20140309T030000
TZOFFSETFROM:-0500
TZOFFSETTO:-0400
TZNAME:EDT
END:DAYLIGHT
END:VTIMEZONE
END:VCALENDAR