BEGIN:VCALENDAR
VERSION:2.0
PRODID:-//wp-events-plugin.com//7.2.3.1//EN
TZID:America/New_York
X-WR-TIMEZONE:America/New_York
BEGIN:VEVENT
UID:18@sympmarc.com
DTSTART;TZID=America/New_York;VALUE=DATE:20130303
DTEND;TZID=America/New_York;VALUE=DATE:20130307
DTSTAMP:20121125T033830Z
URL:https://sympmarc.com/speaking/sptechcon-san-francisco-2013/
SUMMARY:SPTechCon San Francisco 2013 - Hilton San Francisco Union Square - 
 3 Mar 13 00:00
DESCRIPTION:
CATEGORIES:Building Custom Navigation with SharePoint Lists, jQuery, and
 jQueryUI,Creating a Great User Experience in SharePoint,SharePoint
 Solutions with SPServices
LOCATION:Hilton San Francisco Union Square\, 333 O’Farrell Street\, San F
 rancisco\, CA\, 94102\, United States
GEO:37.7857896;-122.4100315
X-APPLE-STRUCTURED-LOCATION;VALUE=URI;X-ADDRESS=333 O’Farrell Street\, Sa
 n Francisco\, CA\, 94102\, United States;X-APPLE-RADIUS=100;X-TITLE=Hilton
  San Francisco Union Square:geo:37.7857896,-122.4100315
END:VEVENT
BEGIN:VTIMEZONE
TZID:America/New_York
X-LIC-LOCATION:America/New_York
BEGIN:STANDARD
DTSTART:20121104T010000
TZOFFSETFROM:-0400
TZOFFSETTO:-0500
TZNAME:EST
END:STANDARD
END:VTIMEZONE
END:VCALENDAR