BEGIN:VCALENDAR
VERSION:2.0
PRODID:-//wp-events-plugin.com//7.2.3.1//EN
TZID:America/New_York
X-WR-TIMEZONE:America/New_York
BEGIN:VEVENT
UID:54@sympmarc.com
DTSTART;TZID=America/New_York;VALUE=DATE:20150624
DTEND;TZID=America/New_York;VALUE=DATE:20150627
DTSTAMP:20150304T154007Z
URL:https://sympmarc.com/speaking/sptechcon-developer-days/
SUMMARY:SPTechCon Developer Days - Hyatt Regency Burlingame - 24 Jun 15 00:
 00
DESCRIPTION:
CATEGORIES:Building SharePoint Solutions with KnockoutJS,Moving from SOAP
 to REST – You'll Have to Do It Sometime
LOCATION:Hyatt Regency Burlingame\, 1333 Bayshore Highway\, Burlingame\, CA
 \, 94010\, United States
GEO:37.593961;-122.36503770000002
X-APPLE-STRUCTURED-LOCATION;VALUE=URI;X-ADDRESS=1333 Bayshore Highway\, Bur
 lingame\, CA\, 94010\, United States;X-APPLE-RADIUS=100;X-TITLE=Hyatt Rege
 ncy Burlingame:geo:37.593961,-122.36503770000002
END:VEVENT
BEGIN:VTIMEZONE
TZID:America/New_York
X-LIC-LOCATION:America/New_York
BEGIN:DAYLIGHT
DTSTART:20150308T030000
TZOFFSETFROM:-0500
TZOFFSETTO:-0400
TZNAME:EDT
END:DAYLIGHT
END:VTIMEZONE
END:VCALENDAR