BEGIN:VCALENDAR
VERSION:2.0
PRODID:-//wp-events-plugin.com//7.2.3.1//EN
TZID:America/New_York
X-WR-TIMEZONE:America/New_York
BEGIN:VEVENT
UID:88@sympmarc.com
DTSTART;TZID=America/New_York;VALUE=DATE:20171112
DTEND;TZID=America/New_York;VALUE=DATE:20171116
DTSTAMP:20170621T150819Z
URL:https://sympmarc.com/speaking/sptechcon-dc-2017/
SUMMARY:SPTechCon DC 2017 - Bethesda North Marriott Hotel & Conference Cent
 er - 12 Nov 17 00:00
DESCRIPTION:
CATEGORIES:Content Types-Love Them or Lose It,Creating a Great User
 Experience in SharePoint,The Lay of the Land of Client-Side Development
 circa 2017
LOCATION:Bethesda North Marriott Hotel & Conference Center\, 5701 Marinelli
  Road\, Bethesda\, MD\, 20852\, United States
GEO:39.047104;-77.11567660000003
X-APPLE-STRUCTURED-LOCATION;VALUE=URI;X-ADDRESS=5701 Marinelli Road\, Bethe
 sda\, MD\, 20852\, United States;X-APPLE-RADIUS=100;X-TITLE=Bethesda North
  Marriott Hotel & Conference Center:geo:39.047104,-77.11567660000003
END:VEVENT
BEGIN:VTIMEZONE
TZID:America/New_York
X-LIC-LOCATION:America/New_York
BEGIN:STANDARD
DTSTART:20171105T010000
TZOFFSETFROM:-0400
TZOFFSETTO:-0500
TZNAME:EST
END:STANDARD
END:VTIMEZONE
END:VCALENDAR