BEGIN:VCALENDAR
VERSION:2.0
PRODID:-//wp-events-plugin.com//7.2.3.1//EN
TZID:America/New_York
X-WR-TIMEZONE:America/New_York
BEGIN:VEVENT
UID:57@sympmarc.com
DTSTART;TZID=America/New_York;VALUE=DATE:20150824
DTEND;TZID=America/New_York;VALUE=DATE:20150828
DTSTAMP:20150812T141302Z
URL:https://sympmarc.com/speaking/sptechcon-boston-2015/
SUMMARY:SPTechCon Boston 2015 - Sheraton Boston - 24 Aug 15 00:00
DESCRIPTION:
CATEGORIES:Content Types-Love Them or Lose It,Creating a Great User
 Experience in SharePoint,Whither SPServices?
LOCATION:Sheraton Boston\, 39 Dalton Street\, Boston\, MA\, 02199\, United 
 States
GEO:42.3460902;-71.08366939999996
X-APPLE-STRUCTURED-LOCATION;VALUE=URI;X-ADDRESS=39 Dalton Street\, Boston\,
  MA\, 02199\, United States;X-APPLE-RADIUS=100;X-TITLE=Sheraton Boston:geo
 :42.3460902,-71.08366939999996
END:VEVENT
BEGIN:VTIMEZONE
TZID:America/New_York
X-LIC-LOCATION:America/New_York
BEGIN:DAYLIGHT
DTSTART:20150308T030000
TZOFFSETFROM:-0500
TZOFFSETTO:-0400
TZNAME:EDT
END:DAYLIGHT
END:VTIMEZONE
END:VCALENDAR