BEGIN:VCALENDAR
VERSION:2.0
PRODID:-//wp-events-plugin.com//7.2.3.1//EN
TZID:America/New_York
X-WR-TIMEZONE:America/New_York
BEGIN:VEVENT
UID:6@sympmarc.com
DTSTART;TZID=America/New_York;VALUE=DATE:20120722
DTEND;TZID=America/New_York;VALUE=DATE:20120726
DTSTAMP:20120403T213654Z
URL:https://sympmarc.com/speaking/sptechcon-boston-2012/
SUMMARY:SPTechCon Boston 2012 - The Westin Copley Place Hotel - 22 Jul 12 0
 0:00
DESCRIPTION:
CATEGORIES:Flying in the Cloud: New Ways to Develop for SharePoint
LOCATION:The Westin Copley Place Hotel\, 10 Huntington Avenue\, Boston\, MA
 \, 02116\, United States
GEO:42.3485868;-71.07734189999996
X-APPLE-STRUCTURED-LOCATION;VALUE=URI;X-ADDRESS=10 Huntington Avenue\, Bost
 on\, MA\, 02116\, United States;X-APPLE-RADIUS=100;X-TITLE=The Westin Copl
 ey Place Hotel:geo:42.3485868,-71.07734189999996
END:VEVENT
BEGIN:VTIMEZONE
TZID:America/New_York
X-LIC-LOCATION:America/New_York
BEGIN:DAYLIGHT
DTSTART:20120311T030000
TZOFFSETFROM:-0500
TZOFFSETTO:-0400
TZNAME:EDT
END:DAYLIGHT
END:VTIMEZONE
END:VCALENDAR