BEGIN:VCALENDAR
VERSION:2.0
PRODID:-//wp-events-plugin.com//7.2.3.1//EN
TZID:America/New_York
X-WR-TIMEZONE:America/New_York
BEGIN:VEVENT
UID:98@sympmarc.com
DTSTART;TZID=America/New_York;VALUE=DATE:20190210
DTEND;TZID=America/New_York;VALUE=DATE:20190315
DTSTAMP:20190305T173526Z
URL:https://sympmarc.com/speaking/sptechcon-austin-2019/
SUMMARY:SPTechCon Austin 2019 - Hilton Austin - 10 Feb 19 00:00
DESCRIPTION:
CATEGORIES:The Next Great Migration: "Classic" to "Modern",The Office 365
 Hands-on Kitchen,Top Form: Using PowerApps to Replace List Forms
LOCATION:Hilton Austin\, 500 E 4th Street\, Austin\, TX\, 78701\, United St
 ates
X-APPLE-STRUCTURED-LOCATION;VALUE=URI;X-ADDRESS=500 E 4th Street\, Austin\,
  TX\, 78701\, United States;X-APPLE-RADIUS=100;X-TITLE=Hilton Austin:geo:0
 ,0
END:VEVENT
BEGIN:VTIMEZONE
TZID:America/New_York
X-LIC-LOCATION:America/New_York
BEGIN:STANDARD
DTSTART:20181104T010000
TZOFFSETFROM:-0400
TZOFFSETTO:-0500
TZNAME:EST
END:STANDARD
BEGIN:DAYLIGHT
DTSTART:20190310T030000
TZOFFSETFROM:-0500
TZOFFSETTO:-0400
TZNAME:EDT
END:DAYLIGHT
END:VTIMEZONE
END:VCALENDAR