BEGIN:VCALENDAR
VERSION:2.0
PRODID:-//wp-events-plugin.com//7.2.3.1//EN
TZID:America/New_York
X-WR-TIMEZONE:America/New_York
BEGIN:VEVENT
UID:67@sympmarc.com
DTSTART;TZID=America/New_York;VALUE=DATE:20160221
DTEND;TZID=America/New_York;VALUE=DATE:20160225
DTSTAMP:20151122T202236Z
URL:https://sympmarc.com/speaking/sptechcon-austin-2016/
SUMMARY:SPTechCon Austin 2016 - Renaissance Austin Hotel - 21 Feb 16 00:00
DESCRIPTION:
CATEGORIES:Content Types-Love Them or Lose It,Creating a Great User
 Experience in SharePoint
LOCATION:Renaissance Austin Hotel\, 9721 Arboretum Boulevard\, Austin\, TX\
 , 78759\, United States
GEO:30.392001;-97.749459
X-APPLE-STRUCTURED-LOCATION;VALUE=URI;X-ADDRESS=9721 Arboretum Boulevard\, 
 Austin\, TX\, 78759\, United States;X-APPLE-RADIUS=100;X-TITLE=Renaissance
  Austin Hotel:geo:30.392001,-97.749459
END:VEVENT
BEGIN:VTIMEZONE
TZID:America/New_York
X-LIC-LOCATION:America/New_York
BEGIN:STANDARD
DTSTART:20151101T010000
TZOFFSETFROM:-0400
TZOFFSETTO:-0500
TZNAME:EST
END:STANDARD
END:VTIMEZONE
END:VCALENDAR