BEGIN:VCALENDAR
VERSION:2.0
PRODID:-//wp-events-plugin.com//7.2.3.1//EN
TZID:America/New_York
X-WR-TIMEZONE:America/New_York
BEGIN:VEVENT
UID:82@sympmarc.com
DTSTART;TZID=America/New_York;VALUE=DATE:20170402
DTEND;TZID=America/New_York;VALUE=DATE:20170406
DTSTAMP:20170101T172320Z
URL:https://sympmarc.com/speaking/sptechcon-austin-2016-2/
SUMMARY:SPTechCon Austin 2016 - Renaissance Austin Hotel - 2 Apr 17 00:00
DESCRIPTION:
CATEGORIES:Content Types-Love Them or Lose It,Creating a Great User
 Experience in SharePoint,Lions and Tigers and Teams, Oh My! – Sorting
 through the options to connect and collaborate in Office 365
LOCATION:Renaissance Austin Hotel\, 9721 Arboretum Boulevard\, Austin\, TX\
 , 78759\, United States
GEO:30.392001;-97.749459
X-APPLE-STRUCTURED-LOCATION;VALUE=URI;X-ADDRESS=9721 Arboretum Boulevard\, 
 Austin\, TX\, 78759\, United States;X-APPLE-RADIUS=100;X-TITLE=Renaissance
  Austin Hotel:geo:30.392001,-97.749459
END:VEVENT
BEGIN:VTIMEZONE
TZID:America/New_York
X-LIC-LOCATION:America/New_York
BEGIN:DAYLIGHT
DTSTART:20170312T030000
TZOFFSETFROM:-0500
TZOFFSETTO:-0400
TZNAME:EDT
END:DAYLIGHT
END:VTIMEZONE
END:VCALENDAR