BEGIN:VCALENDAR
VERSION:2.0
PRODID:-//wp-events-plugin.com//7.2.3.1//EN
TZID:America/New_York
X-WR-TIMEZONE:America/New_York
BEGIN:VEVENT
UID:87@sympmarc.com
DTSTART;TZID=America/New_York;VALUE=DATE:20170729
DTEND;TZID=America/New_York;VALUE=DATE:20170730
DTSTAMP:20170621T150557Z
URL:https://sympmarc.com/speaking/sps-new-york-city-2017/
SUMMARY:SPS New York City 2017 - Microsoft NYC - 29 Jul 17 00:00
DESCRIPTION:
CATEGORIES:The Lay of the Land of Client-Side Development circa 2017
LOCATION:Microsoft NYC\, 11 Times Square\, New York\, NY\, 10036\, Northeas
 t\, United States
GEO:40.7565357;-73.98988910000003
X-APPLE-STRUCTURED-LOCATION;VALUE=URI;X-ADDRESS=11 Times Square\, New York\
 , NY\, 10036\, Northeast\, United States;X-APPLE-RADIUS=100;X-TITLE=Micros
 oft NYC:geo:40.7565357,-73.98988910000003
END:VEVENT
BEGIN:VTIMEZONE
TZID:America/New_York
X-LIC-LOCATION:America/New_York
BEGIN:DAYLIGHT
DTSTART:20170312T030000
TZOFFSETFROM:-0500
TZOFFSETTO:-0400
TZNAME:EDT
END:DAYLIGHT
END:VTIMEZONE
END:VCALENDAR