BEGIN:VCALENDAR
VERSION:2.0
PRODID:-//wp-events-plugin.com//7.2.3.1//EN
TZID:America/New_York
X-WR-TIMEZONE:America/New_York
BEGIN:VEVENT
UID:86@sympmarc.com
DTSTART;TZID=America/New_York;VALUE=DATE:20170603
DTEND;TZID=America/New_York;VALUE=DATE:20170604
DTSTAMP:20170327T213726Z
URL:https://sympmarc.com/speaking/sps-monaco-2017/
SUMMARY:SPS Monaco 2017 - Meridien Beach Plaza - 3 Jun 17 00:00
DESCRIPTION:
CATEGORIES:The Lay of the Land of Client-Side Development circa 2017
LOCATION:Meridien Beach Plaza\, 22 Avenue Princesse Grace\, Monte Carlo\, 9
 8000\, Monaco
GEO:43.7482876;7.435896100000036
X-APPLE-STRUCTURED-LOCATION;VALUE=URI;X-ADDRESS=22 Avenue Princesse Grace\,
  Monte Carlo\, 98000\, Monaco;X-APPLE-RADIUS=100;X-TITLE=Meridien Beach Pl
 aza:geo:43.7482876,7.435896100000036
END:VEVENT
BEGIN:VTIMEZONE
TZID:America/New_York
X-LIC-LOCATION:America/New_York
BEGIN:DAYLIGHT
DTSTART:20170312T030000
TZOFFSETFROM:-0500
TZOFFSETTO:-0400
TZNAME:EDT
END:DAYLIGHT
END:VTIMEZONE
END:VCALENDAR