BEGIN:VCALENDAR
VERSION:2.0
PRODID:-//wp-events-plugin.com//7.2.3.1//EN
TZID:America/New_York
X-WR-TIMEZONE:America/New_York
BEGIN:VEVENT
UID:79@sympmarc.com
DTSTART;TZID=America/New_York;VALUE=DATE:20161217
DTEND;TZID=America/New_York;VALUE=DATE:20161219
DTSTAMP:20161031T134154Z
URL:https://sympmarc.com/speaking/sps-lisbon-2016/
SUMMARY:SPS Lisbon 2016 - MSFT\, Software para Microcomputadores\, Lda. - 1
 7 Dec 16 00:00
DESCRIPTION:
CATEGORIES:SharePoint Client-Side Development: 0 to 100kph in One Day,The
 Lay of the Land of Client-Side Development circa 2016
LOCATION:MSFT\, Software para Microcomputadores\, Lda.\, Rua do Fogo de San
 telmo\, Lote 2.07.02\, Parque das Nações\, Lisbon\, Portugal
GEO:38.7686316;-9.095858000000021
X-APPLE-STRUCTURED-LOCATION;VALUE=URI;X-ADDRESS=Rua do Fogo de Santelmo\, L
 ote 2.07.02\, Parque das Nações\, Lisbon\, Portugal;X-APPLE-RADIUS=100;X
 -TITLE=MSFT\, Software para Microcomputadores\, Lda.:geo:38.7686316,-9.095
 858000000021
END:VEVENT
BEGIN:VTIMEZONE
TZID:America/New_York
X-LIC-LOCATION:America/New_York
BEGIN:STANDARD
DTSTART:20161106T010000
TZOFFSETFROM:-0400
TZOFFSETTO:-0500
TZNAME:EST
END:STANDARD
END:VTIMEZONE
END:VCALENDAR