BEGIN:VCALENDAR
VERSION:2.0
PRODID:-//wp-events-plugin.com//7.2.3.1//EN
TZID:America/New_York
X-WR-TIMEZONE:America/New_York
BEGIN:VEVENT
UID:26@sympmarc.com
DTSTART;TZID=America/New_York:20130702T120000
DTEND;TZID=America/New_York:20130702T130000
DTSTAMP:20130626T154141Z
URL:https://sympmarc.com/speaking/spchat-with-marc-anderson-jquery-and-sps
 ervices-no-longer-just-for-the-cool-kids/
SUMMARY:SPChat on SharePointCommunity.net -  - 2 Jul 13 12:00
DESCRIPTION:
CATEGORIES:jQuery and SPServices - No longer just for the cool kids
END:VEVENT
BEGIN:VTIMEZONE
TZID:America/New_York
X-LIC-LOCATION:America/New_York
BEGIN:DAYLIGHT
DTSTART:20130310T030000
TZOFFSETFROM:-0500
TZOFFSETTO:-0400
TZNAME:EDT
END:DAYLIGHT
END:VTIMEZONE
END:VCALENDAR