BEGIN:VCALENDAR
VERSION:2.0
PRODID:-//wp-events-plugin.com//7.2.3.1//EN
TZID:America/New_York
X-WR-TIMEZONE:America/New_York
BEGIN:VEVENT
UID:55@sympmarc.com
DTSTART;TZID=America/New_York:20150331T130000
DTEND;TZID=America/New_York:20150331T140000
DTSTAMP:20150331T213902Z
URL:https://sympmarc.com/speaking/spchat-sharepoint-javascript-client-side
 -development/
SUMMARY:SPChat: SharePoint\, JavaScript & Client-side Development -  - 31 M
 ar 15 13:00
DESCRIPTION:
END:VEVENT
BEGIN:VTIMEZONE
TZID:America/New_York
X-LIC-LOCATION:America/New_York
BEGIN:DAYLIGHT
DTSTART:20150308T030000
TZOFFSETFROM:-0500
TZOFFSETTO:-0400
TZNAME:EDT
END:DAYLIGHT
END:VTIMEZONE
END:VCALENDAR