BEGIN:VCALENDAR
VERSION:2.0
PRODID:-//wp-events-plugin.com//7.2.3.1//EN
TZID:America/New_York
X-WR-TIMEZONE:America/New_York
BEGIN:VEVENT
UID:72@sympmarc.com
DTSTART;TZID=America/New_York;VALUE=DATE:20160531
DTEND;TZID=America/New_York;VALUE=DATE:20160602
DTSTAMP:20160307T180527Z
URL:https://sympmarc.com/speaking/spc-adriatics-2016/
SUMMARY:SPC Adriatics 2016 - Airport Hotel Aristos Zagreb - 31 May 16 00:00
DESCRIPTION:&nbsp\;\n
CATEGORIES:Alternative Approaches to Solution Development in Office
 365,Creating a Great User Experience in SharePoint
LOCATION:Airport Hotel Aristos Zagreb\, Cebini 33\, Buzin\, Zagreb\, 10010\
 , Croatia
GEO:45.74915610000001;15.99715279999998
X-APPLE-STRUCTURED-LOCATION;VALUE=URI;X-ADDRESS=Cebini 33\, Buzin\, Zagreb\
 , 10010\, Croatia;X-APPLE-RADIUS=100;X-TITLE=Airport Hotel Aristos Zagreb:
 geo:45.74915610000001,15.99715279999998
END:VEVENT
BEGIN:VTIMEZONE
TZID:America/New_York
X-LIC-LOCATION:America/New_York
BEGIN:DAYLIGHT
DTSTART:20160313T030000
TZOFFSETFROM:-0500
TZOFFSETTO:-0400
TZNAME:EDT
END:DAYLIGHT
END:VTIMEZONE
END:VCALENDAR