BEGIN:VCALENDAR
VERSION:2.0
PRODID:-//wp-events-plugin.com//7.2.3.1//EN
TZID:America/New_York
X-WR-TIMEZONE:America/New_York
BEGIN:VEVENT
UID:24@sympmarc.com
DTSTART;TZID=America/New_York:20130315T130000
DTEND;TZID=America/New_York:20130315T133000
DTSTAMP:20130312T153509Z
URL:https://sympmarc.com/speaking/social-media-dashboard-for-sharepoint/
SUMMARY:Social Media Dashboard for SharePoint -  - 15 Mar 13 13:00
DESCRIPTION:
CATEGORIES:Social Media Dashboard for SharePoint
END:VEVENT
BEGIN:VTIMEZONE
TZID:America/New_York
X-LIC-LOCATION:America/New_York
BEGIN:DAYLIGHT
DTSTART:20130310T030000
TZOFFSETFROM:-0500
TZOFFSETTO:-0400
TZNAME:EDT
END:DAYLIGHT
END:VTIMEZONE
END:VCALENDAR