BEGIN:VCALENDAR
VERSION:2.0
PRODID:-//wp-events-plugin.com//7.2.3.1//EN
TZID:America/New_York
X-WR-TIMEZONE:America/New_York
BEGIN:VEVENT
UID:11@sympmarc.com
DTSTART;TZID=America/New_York;VALUE=DATE:20120625
DTEND;TZID=America/New_York;VALUE=DATE:20120628
DTSTAMP:20120403T211828Z
URL:https://sympmarc.com/speaking/sharepointfest-denver-2012/
SUMMARY:SharePointFest Denver 2012 - Colorado Convention Center - 25 Jun 12
  00:00
DESCRIPTION:
CATEGORIES:A jQuery Primer for SharePoint,Building Custom Navigation with
 SharePoint Lists, jQuery, and jQueryUI,Flying in the Cloud: New Ways to
 Develop for SharePoint,SharePoint Solutions with SPServices
LOCATION:Colorado Convention Center\, 700 14th St\, Denver\, CO\, 80202\, U
 nited States
GEO:39.7427565;-104.99400149999997
X-APPLE-STRUCTURED-LOCATION;VALUE=URI;X-ADDRESS=700 14th St\, Denver\, CO\,
  80202\, United States;X-APPLE-RADIUS=100;X-TITLE=Colorado Convention Cent
 er:geo:39.7427565,-104.99400149999997
END:VEVENT
BEGIN:VTIMEZONE
TZID:America/New_York
X-LIC-LOCATION:America/New_York
BEGIN:DAYLIGHT
DTSTART:20120311T030000
TZOFFSETFROM:-0500
TZOFFSETTO:-0400
TZNAME:EDT
END:DAYLIGHT
END:VTIMEZONE
END:VCALENDAR