BEGIN:VCALENDAR
VERSION:2.0
PRODID:-//wp-events-plugin.com//7.2.3.1//EN
TZID:America/New_York
X-WR-TIMEZONE:America/New_York
BEGIN:VEVENT
UID:63@sympmarc.com
DTSTART;TZID=America/New_York;VALUE=DATE:20151208
DTEND;TZID=America/New_York;VALUE=DATE:20151211
DTSTAMP:20151112T163001Z
URL:https://sympmarc.com/speaking/sharepointfest-chicago-2015/
SUMMARY:SharePointFest Chicago 2015 - McCormick Place - 8 Dec 15 00:00
DESCRIPTION:
CATEGORIES:Building SharePoint Solutions with KnockoutJS,Creating a Great
 User Experience in SharePoint,Moving from SOAP to REST – You'll Have to
 Do It Sometime
LOCATION:McCormick Place\, 2301 S. Indiana Avenue\, Chicago\, IL\, 60616\, 
 United States
GEO:41.8507901;-87.62178670000003
X-APPLE-STRUCTURED-LOCATION;VALUE=URI;X-ADDRESS=2301 S. Indiana Avenue\, Ch
 icago\, IL\, 60616\, United States;X-APPLE-RADIUS=100;X-TITLE=McCormick Pl
 ace:geo:41.8507901,-87.62178670000003
END:VEVENT
BEGIN:VTIMEZONE
TZID:America/New_York
X-LIC-LOCATION:America/New_York
BEGIN:STANDARD
DTSTART:20151101T010000
TZOFFSETFROM:-0400
TZOFFSETTO:-0500
TZNAME:EST
END:STANDARD
END:VTIMEZONE
END:VCALENDAR