BEGIN:VCALENDAR
VERSION:2.0
PRODID:-//wp-events-plugin.com//7.2.3.1//EN
TZID:America/New_York
X-WR-TIMEZONE:America/New_York
BEGIN:VEVENT
UID:16@sympmarc.com
DTSTART;TZID=America/New_York;VALUE=DATE:20120924
DTEND;TZID=America/New_York;VALUE=DATE:20120928
DTSTAMP:20121022T150825Z
URL:https://sympmarc.com/speaking/sharepointfest-chicago-2012/
SUMMARY:SharePointFest Chicago 2012 - Donald E. Stephens Conference Center 
 - 24 Sep 12 00:00
DESCRIPTION:
CATEGORIES:Flying in the Cloud: New Ways to Develop for
 SharePoint,SharePoint Design Essentials,SharePoint Solutions with
 SPServices
LOCATION:Donald E. Stephens Conference Center\, 5555 N. River Road\, Rosemo
 nt\, IL\, 60018\, United States
GEO:41.9796976;-87.8619501
X-APPLE-STRUCTURED-LOCATION;VALUE=URI;X-ADDRESS=5555 N. River Road\, Rosemo
 nt\, IL\, 60018\, United States;X-APPLE-RADIUS=100;X-TITLE=Donald E. Steph
 ens Conference Center:geo:41.9796976,-87.8619501
END:VEVENT
BEGIN:VTIMEZONE
TZID:America/New_York
X-LIC-LOCATION:America/New_York
BEGIN:DAYLIGHT
DTSTART:20120311T030000
TZOFFSETFROM:-0500
TZOFFSETTO:-0400
TZNAME:EDT
END:DAYLIGHT
END:VTIMEZONE
END:VCALENDAR