BEGIN:VCALENDAR
VERSION:2.0
PRODID:-//wp-events-plugin.com//7.2.3.1//EN
TZID:America/New_York
X-WR-TIMEZONE:America/New_York
BEGIN:VEVENT
UID:40@sympmarc.com
DTSTART;TZID=America/New_York;VALUE=DATE:20140916
DTEND;TZID=America/New_York;VALUE=DATE:20140920
DTSTAMP:20140522T180339Z
URL:https://sympmarc.com/speaking/sharepoint-technology-conference-sptechc
 on-boston-2014/
SUMMARY:SharePoint Technology Conference (SPTechCon) Boston 2014 - Boston P
 ark Plaza Hotel - 16 Sep 14 00:00
DESCRIPTION:
CATEGORIES:Anatomy of a Display Template,Creating a Great User Experience
 in SharePoint,SharePoint Solutions with SPServices
LOCATION:Boston Park Plaza Hotel\, 50 Park Plaza\, Boston\, MA\, 02116\, Un
 ited States
GEO:42.3508511;-71.07032029999999
X-APPLE-STRUCTURED-LOCATION;VALUE=URI;X-ADDRESS=50 Park Plaza\, Boston\, MA
 \, 02116\, United States;X-APPLE-RADIUS=100;X-TITLE=Boston Park Plaza Hote
 l:geo:42.3508511,-71.07032029999999
END:VEVENT
BEGIN:VTIMEZONE
TZID:America/New_York
X-LIC-LOCATION:America/New_York
BEGIN:DAYLIGHT
DTSTART:20140309T030000
TZOFFSETFROM:-0500
TZOFFSETTO:-0400
TZNAME:EDT
END:DAYLIGHT
END:VTIMEZONE
END:VCALENDAR