BEGIN:VCALENDAR
VERSION:2.0
PRODID:-//wp-events-plugin.com//7.2.3.1//EN
TZID:America/New_York
X-WR-TIMEZONE:America/New_York
BEGIN:VEVENT
UID:25@sympmarc.com
DTSTART;TZID=America/New_York;VALUE=DATE:20130811
DTEND;TZID=America/New_York;VALUE=DATE:20130815
DTSTAMP:20130626T152954Z
URL:https://sympmarc.com/speaking/sharepoint-technology-conference-sptechc
 on-boston-2013/
SUMMARY:SharePoint Technology Conference (SPTechCon) Boston 2013 - Sheraton
  Boston - 11 Aug 13 00:00
DESCRIPTION:
CATEGORIES:Create a Business Solution, Step by Step, with No Managed
 Code,Creating a Great User Experience in SharePoint,SharePoint Solutions
 with SPServices
LOCATION:Sheraton Boston\, 39 Dalton Street\, Boston\, MA\, 02199\, United 
 States
GEO:42.3460902;-71.08366939999996
X-APPLE-STRUCTURED-LOCATION;VALUE=URI;X-ADDRESS=39 Dalton Street\, Boston\,
  MA\, 02199\, United States;X-APPLE-RADIUS=100;X-TITLE=Sheraton Boston:geo
 :42.3460902,-71.08366939999996
END:VEVENT
BEGIN:VTIMEZONE
TZID:America/New_York
X-LIC-LOCATION:America/New_York
BEGIN:DAYLIGHT
DTSTART:20130310T030000
TZOFFSETFROM:-0500
TZOFFSETTO:-0400
TZNAME:EDT
END:DAYLIGHT
END:VTIMEZONE
END:VCALENDAR