BEGIN:VCALENDAR
VERSION:2.0
PRODID:-//wp-events-plugin.com//7.2.3.1//EN
TZID:America/New_York
X-WR-TIMEZONE:America/New_York
BEGIN:VEVENT
UID:47@sympmarc.com
DTSTART;TZID=America/New_York;VALUE=DATE:20150209
DTEND;TZID=America/New_York;VALUE=DATE:20150212
DTSTAMP:20150219T194623Z
URL:https://sympmarc.com/speaking/sharepoint-technology-conference-sptechc
 on-austin-2015/
SUMMARY:SharePoint Technology Conference (SPTechCon) Austin 2015 - Renaissa
 nce Austin Hotel - 9 Feb 15 00:00
DESCRIPTION:
CATEGORIES:Content Types-Love Them or Lose It,Creating a Great User
 Experience in SharePoint
LOCATION:Renaissance Austin Hotel\, 9721 Arboretum Boulevard\, Austin\, TX\
 , 78759\, United States
GEO:30.392001;-97.749459
X-APPLE-STRUCTURED-LOCATION;VALUE=URI;X-ADDRESS=9721 Arboretum Boulevard\, 
 Austin\, TX\, 78759\, United States;X-APPLE-RADIUS=100;X-TITLE=Renaissance
  Austin Hotel:geo:30.392001,-97.749459
END:VEVENT
BEGIN:VTIMEZONE
TZID:America/New_York
X-LIC-LOCATION:America/New_York
BEGIN:STANDARD
DTSTART:20141102T010000
TZOFFSETFROM:-0400
TZOFFSETTO:-0500
TZNAME:EST
END:STANDARD
END:VTIMEZONE
END:VCALENDAR