BEGIN:VCALENDAR
VERSION:2.0
PRODID:-//wp-events-plugin.com//7.2.3.1//EN
TZID:America/New_York
X-WR-TIMEZONE:America/New_York
BEGIN:VEVENT
UID:59@sympmarc.com
DTSTART;TZID=America/New_York;VALUE=DATE:20151027
DTEND;TZID=America/New_York;VALUE=DATE:20151028
DTSTAMP:20150930T141610Z
URL:https://sympmarc.com/speaking/sharepoint-techfest-houston-2015/
SUMMARY:SharePoint TechFest Houston 2015 - NRG Center - 27 Oct 15 00:00
DESCRIPTION:
CATEGORIES:Creating a Great User Experience in SharePoint,Moving from SOAP
 to REST – You'll Have to Do It Sometime
LOCATION:NRG Center\, One Reliant Park\, Houston\, TX\, 77054\, United Stat
 es
GEO:29.6847219;-95.41070739999998
X-APPLE-STRUCTURED-LOCATION;VALUE=URI;X-ADDRESS=One Reliant Park\, Houston\
 , TX\, 77054\, United States;X-APPLE-RADIUS=100;X-TITLE=NRG Center:geo:29.
 6847219,-95.41070739999998
END:VEVENT
BEGIN:VTIMEZONE
TZID:America/New_York
X-LIC-LOCATION:America/New_York
BEGIN:DAYLIGHT
DTSTART:20150308T030000
TZOFFSETFROM:-0500
TZOFFSETTO:-0400
TZNAME:EDT
END:DAYLIGHT
END:VTIMEZONE
END:VCALENDAR