BEGIN:VCALENDAR
VERSION:2.0
PRODID:-//wp-events-plugin.com//7.2.3.1//EN
TZID:America/New_York
X-WR-TIMEZONE:America/New_York
BEGIN:VEVENT
UID:70@sympmarc.com
DTSTART;TZID=America/New_York;VALUE=DATE:20160406
DTEND;TZID=America/New_York;VALUE=DATE:20160407
DTSTAMP:20160104T172108Z
URL:https://sympmarc.com/speaking/sharepoint-techfest-dallas-2016/
SUMMARY:SharePoint TechFest Dallas 2016 - Irving Convention Center - 6 Apr 
 16 00:00
DESCRIPTION:&nbsp\;\n
CATEGORIES:Creating a Great User Experience in SharePoint
LOCATION:Irving Convention Center\, 500 Las Colinas Blvd W\, Irving\, TX\, 
 75039\, United States
GEO:32.8781365;-96.9429953
X-APPLE-STRUCTURED-LOCATION;VALUE=URI;X-ADDRESS=500 Las Colinas Blvd W\, Ir
 ving\, TX\, 75039\, United States;X-APPLE-RADIUS=100;X-TITLE=Irving Conven
 tion Center:geo:32.8781365,-96.9429953
END:VEVENT
BEGIN:VTIMEZONE
TZID:America/New_York
X-LIC-LOCATION:America/New_York
BEGIN:DAYLIGHT
DTSTART:20160313T030000
TZOFFSETFROM:-0500
TZOFFSETTO:-0400
TZNAME:EDT
END:DAYLIGHT
END:VTIMEZONE
END:VCALENDAR