BEGIN:VCALENDAR
VERSION:2.0
PRODID:-//wp-events-plugin.com//7.2.3.1//EN
TZID:America/New_York
X-WR-TIMEZONE:America/New_York
BEGIN:VEVENT
UID:7@sympmarc.com
DTSTART;TZID=America/New_York;VALUE=DATE:20120514
DTEND;TZID=America/New_York;VALUE=DATE:20120517
DTSTAMP:20120403T212238Z
URL:https://sympmarc.com/speaking/sharepoint-summit-2012/
SUMMARY:SharePoint Summit 2012 - Fairmont Royal York Hotel - 14 May 12 00:0
 0
DESCRIPTION:
CATEGORIES:Developing in SharePoint's Middle Tier
LOCATION:Fairmont Royal York Hotel\, 100 Front St. West\, Toronto\, Ontario
 \, M5J 1E3\, Canada
GEO:43.6455855;-79.38192449999997
X-APPLE-STRUCTURED-LOCATION;VALUE=URI;X-ADDRESS=100 Front St. West\, Toront
 o\, Ontario\, M5J 1E3\, Canada;X-APPLE-RADIUS=100;X-TITLE=Fairmont Royal Y
 ork Hotel:geo:43.6455855,-79.38192449999997
END:VEVENT
BEGIN:VTIMEZONE
TZID:America/New_York
X-LIC-LOCATION:America/New_York
BEGIN:DAYLIGHT
DTSTART:20120311T030000
TZOFFSETFROM:-0500
TZOFFSETTO:-0400
TZNAME:EDT
END:DAYLIGHT
END:VTIMEZONE
END:VCALENDAR