BEGIN:VCALENDAR
VERSION:2.0
PRODID:-//wp-events-plugin.com//7.2.3.1//EN
TZID:America/New_York
X-WR-TIMEZONE:America/New_York
BEGIN:VEVENT
UID:33@sympmarc.com
DTSTART;TZID=America/New_York;VALUE=DATE:20131109
DTEND;TZID=America/New_York;VALUE=DATE:20131110
DTSTAMP:20131007T154855Z
URL:https://sympmarc.com/speaking/sharepoint-saturday-rhode-island-spsri/
SUMMARY:SharePoint Saturday Rhode Island (SPSRI) - New Horizons Providence 
 Office - 9 Nov 13 00:00
DESCRIPTION:
CATEGORIES:A jQuery Primer for SharePoint
LOCATION:New Horizons Providence Office\, 315 Iron Horse Way (off 555 Valle
 y St.) Suite 102\, Providence\, RI\, 02908 \, United States
GEO:41.8288234;-71.43158900000003
X-APPLE-STRUCTURED-LOCATION;VALUE=URI;X-ADDRESS=315 Iron Horse Way (off 555
  Valley St.) Suite 102\, Providence\, RI\, 02908 \, United States;X-APPLE-
 RADIUS=100;X-TITLE=New Horizons Providence Office:geo:41.8288234,-71.43158
 900000003
END:VEVENT
BEGIN:VTIMEZONE
TZID:America/New_York
X-LIC-LOCATION:America/New_York
BEGIN:STANDARD
DTSTART:20131103T010000
TZOFFSETFROM:-0400
TZOFFSETTO:-0500
TZNAME:EST
END:STANDARD
END:VTIMEZONE
END:VCALENDAR