BEGIN:VCALENDAR
VERSION:2.0
PRODID:-//wp-events-plugin.com//7.2.3.1//EN
TZID:America/New_York
X-WR-TIMEZONE:America/New_York
BEGIN:VEVENT
UID:46@sympmarc.com
DTSTART;TZID=America/New_York;VALUE=DATE:20141018
DTEND;TZID=America/New_York;VALUE=DATE:20141019
DTSTAMP:20141008T145106Z
URL:https://sympmarc.com/speaking/sharepoint-saturday-nh-2014/
SUMMARY:SharePoint Saturday NH 2014 - The Radisson Hotel Nashua - 18 Oct 14
  00:00
DESCRIPTION:
CATEGORIES:Building SharePoint Solutions with KnockoutJS
LOCATION:The Radisson Hotel Nashua\, 11 Tara Boulevard\, Nashua\, NH\, 0306
 2\, United States
GEO:42.7096507;-71.4551659
X-APPLE-STRUCTURED-LOCATION;VALUE=URI;X-ADDRESS=11 Tara Boulevard\, Nashua\
 , NH\, 03062\, United States;X-APPLE-RADIUS=100;X-TITLE=The Radisson Hotel
  Nashua:geo:42.7096507,-71.4551659
END:VEVENT
BEGIN:VTIMEZONE
TZID:America/New_York
X-LIC-LOCATION:America/New_York
BEGIN:DAYLIGHT
DTSTART:20140309T030000
TZOFFSETFROM:-0500
TZOFFSETTO:-0400
TZNAME:EDT
END:DAYLIGHT
END:VTIMEZONE
END:VCALENDAR