BEGIN:VCALENDAR
VERSION:2.0
PRODID:-//wp-events-plugin.com//7.2.3.1//EN
TZID:America/New_York
X-WR-TIMEZONE:America/New_York
BEGIN:VEVENT
UID:17@sympmarc.com
DTSTART;TZID=America/New_York;VALUE=DATE:20120922
DTEND;TZID=America/New_York;VALUE=DATE:20120923
DTSTAMP:20121022T151412Z
URL:https://sympmarc.com/speaking/sharepoint-saturday-new-hampshire/
SUMMARY:SharePoint Saturday New Hampshire - Southern New Hampshire Universi
 ty - 22 Sep 12 00:00
DESCRIPTION:TBD
CATEGORIES:Getting Started with SharePoint Development
LOCATION:Southern New Hampshire University\, 2500 North River Road\, Manche
 ster\, NH\, 03106\, United States
GEO:43.0391597;-71.45342590000001
X-APPLE-STRUCTURED-LOCATION;VALUE=URI;X-ADDRESS=2500 North River Road\, Man
 chester\, NH\, 03106\, United States;X-APPLE-RADIUS=100;X-TITLE=Southern N
 ew Hampshire University:geo:43.0391597,-71.45342590000001
END:VEVENT
BEGIN:VTIMEZONE
TZID:America/New_York
X-LIC-LOCATION:America/New_York
BEGIN:DAYLIGHT
DTSTART:20120311T030000
TZOFFSETFROM:-0500
TZOFFSETTO:-0400
TZNAME:EDT
END:DAYLIGHT
END:VTIMEZONE
END:VCALENDAR