BEGIN:VCALENDAR
VERSION:2.0
PRODID:-//wp-events-plugin.com//7.2.3.1//EN
TZID:America/New_York
X-WR-TIMEZONE:America/New_York
BEGIN:VEVENT
UID:27@sympmarc.com
DTSTART;TZID=America/New_York;VALUE=DATE:20130921
DTEND;TZID=America/New_York;VALUE=DATE:20130922
DTSTAMP:20130829T203811Z
URL:https://sympmarc.com/speaking/sharepoint-saturday-new-hampshire-spsnh-
 2013/
SUMMARY:SharePoint Saturday New Hampshire (SPSNH) 2013 - The Radisson Hotel
  Nashua - 21 Sep 13 00:00
DESCRIPTION:
CATEGORIES:SharePoint Solutions with SPServices
LOCATION:The Radisson Hotel Nashua\, 11 Tara Boulevard\, Nashua\, NH\, 0306
 2\, United States
GEO:42.7096507;-71.4551659
X-APPLE-STRUCTURED-LOCATION;VALUE=URI;X-ADDRESS=11 Tara Boulevard\, Nashua\
 , NH\, 03062\, United States;X-APPLE-RADIUS=100;X-TITLE=The Radisson Hotel
  Nashua:geo:42.7096507,-71.4551659
END:VEVENT
BEGIN:VTIMEZONE
TZID:America/New_York
X-LIC-LOCATION:America/New_York
BEGIN:DAYLIGHT
DTSTART:20130310T030000
TZOFFSETFROM:-0500
TZOFFSETTO:-0400
TZNAME:EDT
END:DAYLIGHT
END:VTIMEZONE
END:VCALENDAR