BEGIN:VCALENDAR
VERSION:2.0
PRODID:-//wp-events-plugin.com//7.2.3.1//EN
TZID:America/New_York
X-WR-TIMEZONE:America/New_York
BEGIN:VEVENT
UID:44@sympmarc.com
DTSTART;TZID=America/New_York;VALUE=DATE:20140927
DTEND;TZID=America/New_York;VALUE=DATE:20140928
DTSTAMP:20140905T152051Z
URL:https://sympmarc.com/speaking/sharepoint-saturday-jersey-channel-islan
 ds/
SUMMARY:SharePoint Saturday Jersey (Channel Islands) - Radisson Blu Waterfr
 ont Hotel - 27 Sep 14 00:00
DESCRIPTION:
CATEGORIES:Creating a Great User Experience in SharePoint
LOCATION:Radisson Blu Waterfront Hotel\, Rue de L'Eatau\, St. Helier\, Jers
 ey\, JE2 3WF\, United Kingdom
GEO:49.1835814;-2.1147971000000325
X-APPLE-STRUCTURED-LOCATION;VALUE=URI;X-ADDRESS=Rue de L'Eatau\, St. Helier
 \, Jersey\, JE2 3WF\, United Kingdom;X-APPLE-RADIUS=100;X-TITLE=Radisson B
 lu Waterfront Hotel:geo:49.1835814,-2.1147971000000325
END:VEVENT
BEGIN:VTIMEZONE
TZID:America/New_York
X-LIC-LOCATION:America/New_York
BEGIN:DAYLIGHT
DTSTART:20140309T030000
TZOFFSETFROM:-0500
TZOFFSETTO:-0400
TZNAME:EDT
END:DAYLIGHT
END:VTIMEZONE
END:VCALENDAR