BEGIN:VCALENDAR
VERSION:2.0
PRODID:-//wp-events-plugin.com//7.2.3.1//EN
TZID:America/New_York
X-WR-TIMEZONE:America/New_York
BEGIN:VEVENT
UID:96@sympmarc.com
DTSTART;VALUE=DATE:20190105
DTEND;VALUE=DATE:20190106
DTSTAMP:20190123T150155Z
URL:https://sympmarc.com/speaking/sharepoint-saturday-coimbatore-2019/
SUMMARY:SharePoint Saturday Coimbatore 2019 - SIEMA Conference Hall - 5 Jan
  19 00:00
DESCRIPTION:
CATEGORIES:The Next Great Migration: "Classic" to "Modern"
LOCATION:SIEMA Conference Hall\, Race Course 4\, Coimbatore\, Tamil Nadu\, 
 641018\, India
X-APPLE-STRUCTURED-LOCATION;VALUE=URI;X-ADDRESS=Race Course 4\, Coimbatore\
 , Tamil Nadu\, 641018\, India;X-APPLE-RADIUS=100;X-TITLE=SIEMA Conference 
 Hall:geo:0,0
END:VEVENT
END:VCALENDAR