BEGIN:VCALENDAR
VERSION:2.0
PRODID:-//wp-events-plugin.com//7.2.3.1//EN
TZID:America/New_York
X-WR-TIMEZONE:America/New_York
BEGIN:VEVENT
UID:29@sympmarc.com
DTSTART;TZID=America/New_York;VALUE=DATE:20131102
DTEND;TZID=America/New_York;VALUE=DATE:20131103
DTSTAMP:20131007T152659Z
URL:https://sympmarc.com/speaking/sharepoint-saturday-chicago-spschicago-2
 013/
SUMMARY:SharePoint Saturday Chicago (SPSChicago) 2013 - Hard Rock Hotel Chi
 cago - 2 Nov 13 00:00
DESCRIPTION:
CATEGORIES:Designing for SharePoint 2013
LOCATION:Hard Rock Hotel Chicago\, 230 North Michigan Avenue\, Chicago\, IL
 \, 60601\, United States
GEO:41.8867574;-87.62484549999999
X-APPLE-STRUCTURED-LOCATION;VALUE=URI;X-ADDRESS=230 North Michigan Avenue\,
  Chicago\, IL\, 60601\, United States;X-APPLE-RADIUS=100;X-TITLE=Hard Rock
  Hotel Chicago:geo:41.8867574,-87.62484549999999
END:VEVENT
BEGIN:VTIMEZONE
TZID:America/New_York
X-LIC-LOCATION:America/New_York
BEGIN:DAYLIGHT
DTSTART:20130310T030000
TZOFFSETFROM:-0500
TZOFFSETTO:-0400
TZNAME:EDT
END:DAYLIGHT
END:VTIMEZONE
END:VCALENDAR