BEGIN:VCALENDAR
VERSION:2.0
PRODID:-//wp-events-plugin.com//7.2.3.1//EN
TZID:America/New_York
X-WR-TIMEZONE:America/New_York
BEGIN:VEVENT
UID:9@sympmarc.com
DTSTART;TZID=America/New_York;VALUE=DATE:20120428
DTEND;TZID=America/New_York;VALUE=DATE:20120429
DTSTAMP:20120403T153750Z
URL:https://sympmarc.com/speaking/sharepoint-saturday-boston/
SUMMARY:SharePoint Saturday Boston - Microsoft Waltham - 28 Apr 12 00:00
DESCRIPTION:
CATEGORIES:Flying in the Cloud: New Ways to Develop for SharePoint
LOCATION:Microsoft Waltham\, 201 Jones Road\, Sixth Floor\, Waltham\, MA\, 
 02451\, United States
GEO:42.4004692;-71.25772330000001
X-APPLE-STRUCTURED-LOCATION;VALUE=URI;X-ADDRESS=201 Jones Road\, Sixth Floo
 r\, Waltham\, MA\, 02451\, United States;X-APPLE-RADIUS=100;X-TITLE=Micros
 oft Waltham:geo:42.4004692,-71.25772330000001
END:VEVENT
BEGIN:VTIMEZONE
TZID:America/New_York
X-LIC-LOCATION:America/New_York
BEGIN:DAYLIGHT
DTSTART:20120311T030000
TZOFFSETFROM:-0500
TZOFFSETTO:-0400
TZNAME:EDT
END:DAYLIGHT
END:VTIMEZONE
END:VCALENDAR