BEGIN:VCALENDAR
VERSION:2.0
PRODID:-//wp-events-plugin.com//7.2.3.1//EN
TZID:America/New_York
X-WR-TIMEZONE:America/New_York
BEGIN:VEVENT
UID:78@sympmarc.com
DTSTART;TZID=America/New_York;VALUE=DATE:20160910
DTEND;TZID=America/New_York;VALUE=DATE:20160911
DTSTAMP:20160802T131226Z
URL:https://sympmarc.com/speaking/sharepoint-saturday-boston-2016/
SUMMARY:SharePoint Saturday Boston 2016 - Microsoft Technology Center - 10 
 Sep 16 00:00
DESCRIPTION:
CATEGORIES:Best Practices for Small-Scale Client-Side Development in
 SharePoint
LOCATION:Microsoft Technology Center\, One Cambridge Center\, Cambridge\, M
 A\, United States
GEO:42.3625848;-71.08535010000003
X-APPLE-STRUCTURED-LOCATION;VALUE=URI;X-ADDRESS=One Cambridge Center\, Camb
 ridge\, MA\, United States;X-APPLE-RADIUS=100;X-TITLE=Microsoft Technology
  Center:geo:42.3625848,-71.08535010000003
END:VEVENT
BEGIN:VTIMEZONE
TZID:America/New_York
X-LIC-LOCATION:America/New_York
BEGIN:DAYLIGHT
DTSTART:20160313T030000
TZOFFSETFROM:-0500
TZOFFSETTO:-0400
TZNAME:EDT
END:DAYLIGHT
END:VTIMEZONE
END:VCALENDAR