BEGIN:VCALENDAR
VERSION:2.0
PRODID:-//wp-events-plugin.com//7.2.3.1//EN
TZID:America/New_York
X-WR-TIMEZONE:America/New_York
BEGIN:VEVENT
UID:66@sympmarc.com
DTSTART;TZID=America/New_York;VALUE=DATE:20160229
DTEND;TZID=America/New_York;VALUE=DATE:20160303
DTSTAMP:20151122T195910Z
URL:https://sympmarc.com/speaking/sharepoint-konferenz-deutschland-2016/
SUMMARY:SharePoint Konferenz Deutschland 2016 - Stadthalle Erding - 29 Feb 
 16 00:00
DESCRIPTION:
CATEGORIES:Alternative Approaches to Solution Development in Office
 365,Building SharePoint Solutions with KnockoutJS,Creating a Great User
 Experience in SharePoint
LOCATION:Stadthalle Erding\, Alois-Schießl-Platz 1\, Erding\, 85435\, Germ
 any
GEO:48.3080996;11.904919999999947
X-APPLE-STRUCTURED-LOCATION;VALUE=URI;X-ADDRESS=Alois-Schießl-Platz 1\, Er
 ding\, 85435\, Germany;X-APPLE-RADIUS=100;X-TITLE=Stadthalle Erding:geo:48
 .3080996,11.904919999999947
END:VEVENT
BEGIN:VTIMEZONE
TZID:America/New_York
X-LIC-LOCATION:America/New_York
BEGIN:STANDARD
DTSTART:20151101T010000
TZOFFSETFROM:-0400
TZOFFSETTO:-0500
TZNAME:EST
END:STANDARD
END:VTIMEZONE
END:VCALENDAR