BEGIN:VCALENDAR
VERSION:2.0
PRODID:-//wp-events-plugin.com//7.2.3.1//EN
TZID:America/New_York
X-WR-TIMEZONE:America/New_York
BEGIN:VEVENT
UID:95@sympmarc.com
DTSTART;TZID=America/New_York;VALUE=DATE:20181203
DTEND;TZID=America/New_York;VALUE=DATE:20181208
DTSTAMP:20180904T143604Z
URL:https://sympmarc.com/speaking/sharepoint-fest-chicago-2018/
SUMMARY:SharePoint Fest Chicago 2018 - McCormick Place - 3 Dec 18 00:00
DESCRIPTION:
CATEGORIES:Content Types-Love Them or Lose It,The Next Great Migration:
 "Classic" to "Modern",Top Form: Using PowerApps to Replace List Forms
LOCATION:McCormick Place\, 2301 S. Indiana Avenue\, Chicago\, IL\, 60616\, 
 United States
GEO:41.8507901;-87.62178670000003
X-APPLE-STRUCTURED-LOCATION;VALUE=URI;X-ADDRESS=2301 S. Indiana Avenue\, Ch
 icago\, IL\, 60616\, United States;X-APPLE-RADIUS=100;X-TITLE=McCormick Pl
 ace:geo:41.8507901,-87.62178670000003
END:VEVENT
BEGIN:VTIMEZONE
TZID:America/New_York
X-LIC-LOCATION:America/New_York
BEGIN:STANDARD
DTSTART:20181104T010000
TZOFFSETFROM:-0400
TZOFFSETTO:-0500
TZNAME:EST
END:STANDARD
END:VTIMEZONE
END:VCALENDAR