BEGIN:VCALENDAR
VERSION:2.0
PRODID:-//wp-events-plugin.com//7.2.3.1//EN
TZID:America/New_York
X-WR-TIMEZONE:America/New_York
BEGIN:VEVENT
UID:91@sympmarc.com
DTSTART;TZID=America/New_York;VALUE=DATE:20171205
DTEND;TZID=America/New_York;VALUE=DATE:20171209
DTSTAMP:20180205T152942Z
URL:https://sympmarc.com/speaking/sharepoint-fest-chicago-2017/
SUMMARY:SharePoint Fest Chicago 2017 - McCormick Place - 5 Dec 17 00:00
DESCRIPTION:
CATEGORIES:Building Single Page Applications (SPAs) in SharePoint with
 JavaScript,The Lay of the Land of Client-Side Development circa 2017,WS
 403 - Getting Started with JavaScript Development in SharePoint
LOCATION:McCormick Place\, 2301 S. Indiana Avenue\, Chicago\, IL\, 60616\, 
 United States
GEO:41.8507901;-87.62178670000003
X-APPLE-STRUCTURED-LOCATION;VALUE=URI;X-ADDRESS=2301 S. Indiana Avenue\, Ch
 icago\, IL\, 60616\, United States;X-APPLE-RADIUS=100;X-TITLE=McCormick Pl
 ace:geo:41.8507901,-87.62178670000003
END:VEVENT
BEGIN:VTIMEZONE
TZID:America/New_York
X-LIC-LOCATION:America/New_York
BEGIN:STANDARD
DTSTART:20171105T010000
TZOFFSETFROM:-0400
TZOFFSETTO:-0500
TZNAME:EST
END:STANDARD
END:VTIMEZONE
END:VCALENDAR