BEGIN:VCALENDAR
VERSION:2.0
PRODID:-//wp-events-plugin.com//7.2.3.1//EN
TZID:America/New_York
X-WR-TIMEZONE:America/New_York
BEGIN:VEVENT
UID:39@sympmarc.com
DTSTART;TZID=America/New_York;VALUE=DATE:20140929
DTEND;TZID=America/New_York;VALUE=DATE:20141001
DTSTAMP:20141006T191620Z
URL:https://sympmarc.com/speaking/sharepoint-exchange-forum-sef-2014/
SUMMARY:SharePoint & Exchange Forum (SEF) 2014 - Piperska Muren - 29 Sep 14
  00:00
DESCRIPTION:
CATEGORIES:Anatomy of a Display Template,Responsive Design in SharePoint
 2013,Single-Page Applications (SPAs) in SharePoint Using SPServices
LOCATION:Piperska Muren\, Scheelegatan 14\, Stockholm\, 112 28\, Sweden
GEO:59.330696;18.04494790000001
X-APPLE-STRUCTURED-LOCATION;VALUE=URI;X-ADDRESS=Scheelegatan 14\, Stockholm
 \, 112 28\, Sweden;X-APPLE-RADIUS=100;X-TITLE=Piperska Muren:geo:59.330696
 ,18.04494790000001
END:VEVENT
BEGIN:VTIMEZONE
TZID:America/New_York
X-LIC-LOCATION:America/New_York
BEGIN:DAYLIGHT
DTSTART:20140309T030000
TZOFFSETFROM:-0500
TZOFFSETTO:-0400
TZNAME:EDT
END:DAYLIGHT
END:VTIMEZONE
END:VCALENDAR