BEGIN:VCALENDAR
VERSION:2.0
PRODID:-//wp-events-plugin.com//7.2.3.1//EN
TZID:America/New_York
X-WR-TIMEZONE:America/New_York
BEGIN:VEVENT
UID:28@sympmarc.com
DTSTART;TZID=America/New_York;VALUE=DATE:20130930
DTEND;TZID=America/New_York;VALUE=DATE:20131003
DTSTAMP:20130917T130502Z
URL:https://sympmarc.com/speaking/sharepoint-exchange-forum-sef-2013/
SUMMARY:SharePoint & Exchange Forum (SEF) 2013 - Silja Symphony - 30 Sep 13
  00:00
DESCRIPTION:
CATEGORIES:A jQuery Primer for SharePoint,Create a Business Solution, Step
 by Step, with No Managed Code,SharePoint Solutions with SPServices
LOCATION:Silja Symphony\, Between Stockholm (Sweden) and Helsinki (Finland)
 \, Stockholm\, Sweden
GEO:59.32893000000001;18.064910000000054
X-APPLE-STRUCTURED-LOCATION;VALUE=URI;X-ADDRESS=Between Stockholm (Sweden) 
 and Helsinki (Finland)\, Stockholm\, Sweden;X-APPLE-RADIUS=100;X-TITLE=Sil
 ja Symphony:geo:59.32893000000001,18.064910000000054
END:VEVENT
BEGIN:VTIMEZONE
TZID:America/New_York
X-LIC-LOCATION:America/New_York
BEGIN:DAYLIGHT
DTSTART:20130310T030000
TZOFFSETFROM:-0500
TZOFFSETTO:-0400
TZNAME:EDT
END:DAYLIGHT
END:VTIMEZONE
END:VCALENDAR