BEGIN:VCALENDAR
VERSION:2.0
PRODID:-//wp-events-plugin.com//7.2.3.1//EN
TZID:America/New_York
X-WR-TIMEZONE:America/New_York
BEGIN:VEVENT
UID:53@sympmarc.com
DTSTART;TZID=America/New_York;VALUE=DATE:20150420
DTEND;TZID=America/New_York;VALUE=DATE:20150423
DTSTAMP:20150219T200329Z
URL:https://sympmarc.com/speaking/sharepoint-evolution-conference-2015/
SUMMARY:SharePoint Evolution Conference 2015 - The Queen Elizabeth II Confe
 rence Centre - 20 Apr 15 00:00
DESCRIPTION:
CATEGORIES:Building SharePoint Solutions with KnockoutJS,Moving from SOAP
 to REST – You'll Have to Do It Sometime
LOCATION:The Queen Elizabeth II Conference Centre\, Broad Sanctuary\, Londo
 n\, SW1P 3EE\, England
GEO:51.5001075;-0.12806209999996554
X-APPLE-STRUCTURED-LOCATION;VALUE=URI;X-ADDRESS=Broad Sanctuary\, London\, 
 SW1P 3EE\, England;X-APPLE-RADIUS=100;X-TITLE=The Queen Elizabeth II Confe
 rence Centre:geo:51.5001075,-0.12806209999996554
END:VEVENT
BEGIN:VTIMEZONE
TZID:America/New_York
X-LIC-LOCATION:America/New_York
BEGIN:DAYLIGHT
DTSTART:20150308T030000
TZOFFSETFROM:-0500
TZOFFSETTO:-0400
TZNAME:EDT
END:DAYLIGHT
END:VTIMEZONE
END:VCALENDAR